BEGIN:VCALENDAR
VERSION:2.0
METHOD:PUBLISH
CALSCALE:GREGORIAN
BEGIN:VEVENT
UID:de075d3b-093c-4439-b167-6195fc0d9fcc
SEQUENCE:0
CLASS:PUBLIC
PRIORITY:5
DTSTAMP:20260422T204555Z
CREATED:20260422T204555Z
DTSTART:20260427T110000Z
DTEND:20260427T110000Z
SUMMARY:Cérémonie de Laurent COLAS
LOCATION:238, rue de Normandie, 53100, Mayenne, France
BEGIN:VALARM
TRIGGER:-PT30M
ACTION:DISPLAY
DESCRIPTION:Reminder
END:VALARM
END:VEVENT
END:VCALENDAR
