BEGIN:VCALENDAR
VERSION:2.0
METHOD:PUBLISH
CALSCALE:GREGORIAN
BEGIN:VEVENT
UID:04117a93-8760-458c-b972-46a7460cbc1f
SEQUENCE:0
CLASS:PUBLIC
PRIORITY:5
DTSTAMP:20260422T205040Z
CREATED:20260422T205040Z
DTSTART:20260424T140000Z
DTEND:20260424T153000Z
SUMMARY:Cérémonie de Marie-Thérèse LEMONNIER
LOCATION:Bierné (53290), France
BEGIN:VALARM
TRIGGER:-PT30M
ACTION:DISPLAY
DESCRIPTION:Reminder
END:VALARM
END:VEVENT
END:VCALENDAR
