BEGIN:VCALENDAR
VERSION:2.0
METHOD:PUBLISH
CALSCALE:GREGORIAN
BEGIN:VEVENT
UID:7ed66f3d-2b87-4ad6-b07d-6b0bafc8d4dc
SEQUENCE:0
CLASS:PUBLIC
PRIORITY:5
DTSTAMP:20260423T105449Z
CREATED:20260423T105449Z
DTSTART:20260428T100000Z
DTEND:20260428T100000Z
SUMMARY:Cérémonie de Solange FAULON
LOCATION:rue Général de Gaulle, 72190, COULAINES, France
BEGIN:VALARM
TRIGGER:-PT30M
ACTION:DISPLAY
DESCRIPTION:Reminder
END:VALARM
END:VEVENT
END:VCALENDAR
