BEGIN:VCALENDAR
VERSION:2.0
METHOD:PUBLISH
CALSCALE:GREGORIAN
BEGIN:VEVENT
UID:f6d7859d-1035-4ed6-bbd4-ab900ee83029
SEQUENCE:0
CLASS:PUBLIC
PRIORITY:5
DTSTAMP:20260423T135324Z
CREATED:20260423T135324Z
DTSTART:20260428T143000Z
DTEND:20260428T143000Z
SUMMARY:Cérémonie de Huguette DAUNAY
LOCATION:72190, Saint-Pavace, France
BEGIN:VALARM
TRIGGER:-PT30M
ACTION:DISPLAY
DESCRIPTION:Reminder
END:VALARM
END:VEVENT
END:VCALENDAR
