BEGIN:VCALENDAR
VERSION:2.0
METHOD:PUBLISH
CALSCALE:GREGORIAN
BEGIN:VEVENT
UID:c5911fef-9f1c-4a1f-8133-7d6daa65acea
SEQUENCE:0
CLASS:PUBLIC
PRIORITY:5
DTSTAMP:20260423T135708Z
CREATED:20260423T135708Z
DTSTART:20260424T100000Z
DTEND:20260424T100000Z
SUMMARY:Cérémonie de Jacqueline DUBOIS
LOCATION:AMNE EN CHAMPAGNE, France
BEGIN:VALARM
TRIGGER:-PT30M
ACTION:DISPLAY
DESCRIPTION:Reminder
END:VALARM
END:VEVENT
END:VCALENDAR
