BEGIN:VCALENDAR
VERSION:2.0
METHOD:PUBLISH
CALSCALE:GREGORIAN
BEGIN:VEVENT
UID:6d884d26-cc80-425a-b259-40a4e9ee561f
SEQUENCE:0
CLASS:PUBLIC
PRIORITY:5
DTSTAMP:20260423T170824Z
CREATED:20260423T170824Z
DTSTART:20260429T091500Z
DTEND:20260429T100000Z
SUMMARY:Cérémonie de Marc FRÉMIOT
LOCATION:Chemin de César, 72230, Ruaudin, France
BEGIN:VALARM
TRIGGER:-PT30M
ACTION:DISPLAY
DESCRIPTION:Reminder
END:VALARM
END:VEVENT
END:VCALENDAR
