BEGIN:VCALENDAR
VERSION:2.0
METHOD:PUBLISH
CALSCALE:GREGORIAN
BEGIN:VEVENT
UID:ca878b2d-ec47-4077-91fe-541a842114ac
SEQUENCE:0
CLASS:PUBLIC
PRIORITY:5
DTSTAMP:20260423T181458Z
CREATED:20260423T181458Z
DTSTART:20260427T150000Z
DTEND:20260427T150000Z
SUMMARY:Cérémonie de Monique CUSSAGUET
LOCATION:1 Rue du Souvenir, 86000, Poitiers, France
BEGIN:VALARM
TRIGGER:-PT30M
ACTION:DISPLAY
DESCRIPTION:Reminder
END:VALARM
END:VEVENT
END:VCALENDAR
