BEGIN:VCALENDAR
VERSION:2.0
METHOD:PUBLISH
CALSCALE:GREGORIAN
BEGIN:VEVENT
UID:6c4d9063-fbad-4b5d-a968-47700fa2e2f6
SEQUENCE:0
CLASS:PUBLIC
PRIORITY:5
DTSTAMP:20260423T181458Z
CREATED:20260423T181458Z
DTSTART:20260423T100000Z
DTEND:20260423T100000Z
SUMMARY:Cérémonie de Claude DÉCARREAUX
LOCATION:1 Rue d'Artagnan, 08300, Rethel, France
BEGIN:VALARM
TRIGGER:-PT30M
ACTION:DISPLAY
DESCRIPTION:Reminder
END:VALARM
END:VEVENT
END:VCALENDAR
