BEGIN:VCALENDAR
VERSION:2.0
METHOD:PUBLISH
CALSCALE:GREGORIAN
BEGIN:VEVENT
UID:18067417-c3fb-4e87-8e8c-6ad88d15f641
SEQUENCE:0
CLASS:PUBLIC
PRIORITY:5
DTSTAMP:20260424T112116Z
CREATED:20260424T112116Z
DTSTART:20260429T140000Z
DTEND:20260429T143000Z
SUMMARY:Cérémonie de Michel DELAVEAU
LOCATION:Rue de l’Abbaye d’Ardennes, 14000, Caen, France
BEGIN:VALARM
TRIGGER:-PT30M
ACTION:DISPLAY
DESCRIPTION:Reminder
END:VALARM
END:VEVENT
END:VCALENDAR
