BEGIN:VCALENDAR
VERSION:2.0
METHOD:PUBLISH
CALSCALE:GREGORIAN
BEGIN:VEVENT
UID:c7a70a3c-65f7-458a-9a65-cf8a98efe265
SEQUENCE:0
CLASS:PUBLIC
PRIORITY:5
DTSTAMP:20260424T113321Z
CREATED:20260424T113321Z
DTSTART:20260427T100000Z
DTEND:20260427T110000Z
SUMMARY:Cérémonie de Michelle PIOT
LOCATION:86190, Latillé, France
BEGIN:VALARM
TRIGGER:-PT30M
ACTION:DISPLAY
DESCRIPTION:Reminder
END:VALARM
END:VEVENT
END:VCALENDAR
