BEGIN:VCALENDAR
VERSION:2.0
METHOD:PUBLISH
CALSCALE:GREGORIAN
BEGIN:VEVENT
UID:30937294-b72a-410a-9997-18023b63b58b
SEQUENCE:0
CLASS:PUBLIC
PRIORITY:5
DTSTAMP:20260424T120242Z
CREATED:20260424T120242Z
DTSTART:20260430T143000Z
DTEND:20260430T151500Z
SUMMARY:Cérémonie de Jean-Jacques CRUCHON
LOCATION:Chemin de César, 72230, Ruaudin, France
BEGIN:VALARM
TRIGGER:-PT30M
ACTION:DISPLAY
DESCRIPTION:Reminder
END:VALARM
END:VEVENT
END:VCALENDAR
