BEGIN:VCALENDAR
VERSION:2.0
METHOD:PUBLISH
CALSCALE:GREGORIAN
BEGIN:VEVENT
UID:6a5edf2b-ec00-4380-a0fb-98c62e350a50
SEQUENCE:0
CLASS:PUBLIC
PRIORITY:5
DTSTAMP:20260424T120308Z
CREATED:20260424T120308Z
DTSTART:20260428T103000Z
DTEND:20260428T103000Z
SUMMARY:Cérémonie de Yvon THOREUX
LOCATION:27 Rue Abbe Legraverend, 35800, Dinard, France
BEGIN:VALARM
TRIGGER:-PT30M
ACTION:DISPLAY
DESCRIPTION:Reminder
END:VALARM
END:VEVENT
END:VCALENDAR
