BEGIN:VCALENDAR
VERSION:2.0
METHOD:PUBLISH
CALSCALE:GREGORIAN
BEGIN:VEVENT
UID:e4036bde-bd36-46c4-a480-f020f463680c
SEQUENCE:0
CLASS:PUBLIC
PRIORITY:5
DTSTAMP:20260424T120429Z
CREATED:20260424T120429Z
DTSTART:20260430T110000Z
DTEND:20260430T113000Z
SUMMARY:Cérémonie de Serge GOUPY
LOCATION:61000, Alençon, France
BEGIN:VALARM
TRIGGER:-PT30M
ACTION:DISPLAY
DESCRIPTION:Reminder
END:VALARM
END:VEVENT
END:VCALENDAR
