BEGIN:VCALENDAR
VERSION:2.0
METHOD:PUBLISH
CALSCALE:GREGORIAN
BEGIN:VEVENT
UID:483f17cb-b5bd-4c33-a540-4ca2c580ae25
SEQUENCE:0
CLASS:PUBLIC
PRIORITY:5
DTSTAMP:20260424T120308Z
CREATED:20260424T120308Z
DTSTART:20260429T143000Z
DTEND:20260429T143000Z
SUMMARY:Cérémonie de Alfred PERONNE
LOCATION:61230, Gacé, France
BEGIN:VALARM
TRIGGER:-PT30M
ACTION:DISPLAY
DESCRIPTION:Reminder
END:VALARM
END:VEVENT
END:VCALENDAR
