BEGIN:VCALENDAR
VERSION:2.0
METHOD:PUBLISH
CALSCALE:GREGORIAN
BEGIN:VEVENT
UID:8b2f9c22-a78f-44ff-bb6a-2981441d1735
SEQUENCE:0
CLASS:PUBLIC
PRIORITY:5
DTSTAMP:20260424T120317Z
CREATED:20260424T120317Z
DTSTART:20260423T150000Z
DTEND:20260423T160000Z
SUMMARY:Cérémonie de Marie CANDELA
LOCATION:33500, Lalande-de-Pomerol, France
BEGIN:VALARM
TRIGGER:-PT30M
ACTION:DISPLAY
DESCRIPTION:Reminder
END:VALARM
END:VEVENT
END:VCALENDAR
