BEGIN:VCALENDAR
VERSION:2.0
METHOD:PUBLISH
CALSCALE:GREGORIAN
BEGIN:VEVENT
UID:37bd6435-f3be-45d4-8e07-77b0f5b5b422
SEQUENCE:0
CLASS:PUBLIC
PRIORITY:5
DTSTAMP:20260424T155042Z
CREATED:20260424T155042Z
DTSTART:20260430T120000Z
DTEND:20260430T123000Z
SUMMARY:Cérémonie de Michel DOMIN
LOCATION:Rue de l’Abbaye d’Ardennes, 14000, Caen, France
BEGIN:VALARM
TRIGGER:-PT30M
ACTION:DISPLAY
DESCRIPTION:Reminder
END:VALARM
END:VEVENT
END:VCALENDAR
