BEGIN:VCALENDAR
VERSION:2.0
METHOD:PUBLISH
CALSCALE:GREGORIAN
BEGIN:VEVENT
UID:4edb9d81-bdfb-46cf-8188-30328e450481
SEQUENCE:0
CLASS:PUBLIC
PRIORITY:5
DTSTAMP:20260424T171948Z
CREATED:20260424T171948Z
DTSTART:20260504T100000Z
DTEND:20260504T104500Z
SUMMARY:Cérémonie de Philippe LECLÈRE
LOCATION:2 Rue Rayet Liénart, 51420, Witry-lès-Reims, France
BEGIN:VALARM
TRIGGER:-PT30M
ACTION:DISPLAY
DESCRIPTION:Reminder
END:VALARM
END:VEVENT
END:VCALENDAR
