BEGIN:VCALENDAR
VERSION:2.0
METHOD:PUBLISH
CALSCALE:GREGORIAN
BEGIN:VEVENT
UID:f412296d-a6f5-475d-84cb-8a52dd91260c
SEQUENCE:0
CLASS:PUBLIC
PRIORITY:5
DTSTAMP:20260424T172132Z
CREATED:20260424T172132Z
DTSTART:20260429T110000Z
DTEND:20260429T110000Z
SUMMARY:Cérémonie de Chantal AUBERT
LOCATION:Réage du Coqueret, 61200, Argentan, France
BEGIN:VALARM
TRIGGER:-PT30M
ACTION:DISPLAY
DESCRIPTION:Reminder
END:VALARM
END:VEVENT
END:VCALENDAR
