BEGIN:VCALENDAR
VERSION:2.0
METHOD:PUBLISH
CALSCALE:GREGORIAN
BEGIN:VEVENT
UID:bcdae6c1-97cf-40a6-9b5d-b21a15deccd9
SEQUENCE:0
CLASS:PUBLIC
PRIORITY:5
DTSTAMP:20260424T172132Z
CREATED:20260424T172132Z
DTSTART:20260428T100000Z
DTEND:20260428T100000Z
SUMMARY:Cérémonie de GILBERT MONNIER
LOCATION:53200, Château-Gontier-sur-Mayenne, France
BEGIN:VALARM
TRIGGER:-PT30M
ACTION:DISPLAY
DESCRIPTION:Reminder
END:VALARM
END:VEVENT
END:VCALENDAR
