BEGIN:VCALENDAR
VERSION:2.0
METHOD:PUBLISH
CALSCALE:GREGORIAN
BEGIN:VEVENT
UID:adb04c74-aa22-4663-9bc4-6122ecd9d5c4
SEQUENCE:0
CLASS:PUBLIC
PRIORITY:5
DTSTAMP:20260424T172024Z
CREATED:20260424T172024Z
DTSTART:20260425T010000Z
DTEND:20260425T010000Z
SUMMARY:Cérémonie de Ginette VIGNERON
LOCATION:France
BEGIN:VALARM
TRIGGER:-PT30M
ACTION:DISPLAY
DESCRIPTION:Reminder
END:VALARM
END:VEVENT
END:VCALENDAR
