BEGIN:VCALENDAR
VERSION:2.0
METHOD:PUBLISH
CALSCALE:GREGORIAN
BEGIN:VEVENT
UID:3fb71032-9d33-4199-a5f2-8aad2d582ef9
SEQUENCE:0
CLASS:PUBLIC
PRIORITY:5
DTSTAMP:20260424T202805Z
CREATED:20260424T202805Z
DTSTART:20260427T143000Z
DTEND:20260427T143000Z
SUMMARY:Cérémonie de René TURPAUD
LOCATION:53200, Château-Gontier-sur-Mayenne, France
BEGIN:VALARM
TRIGGER:-PT30M
ACTION:DISPLAY
DESCRIPTION:Reminder
END:VALARM
END:VEVENT
END:VCALENDAR
