BEGIN:VCALENDAR
VERSION:2.0
METHOD:PUBLISH
CALSCALE:GREGORIAN
BEGIN:VEVENT
UID:9f4955f9-c4b7-4be5-bc31-ca7445de69a6
SEQUENCE:0
CLASS:PUBLIC
PRIORITY:5
DTSTAMP:20260423T181453Z
CREATED:20260423T181453Z
DTSTART:20260430T103000Z
DTEND:20260430T110000Z
SUMMARY:Cérémonie de Mélina BERCY
LOCATION:rue de l'église, 37380, Monnaie, France
BEGIN:VALARM
TRIGGER:-PT30M
ACTION:DISPLAY
DESCRIPTION:Reminder
END:VALARM
END:VEVENT
END:VCALENDAR
