BEGIN:VCALENDAR
VERSION:2.0
METHOD:PUBLISH
CALSCALE:GREGORIAN
BEGIN:VEVENT
UID:d8a5ddfe-d8e0-402c-9a51-04adfce1c49b
SEQUENCE:0
CLASS:PUBLIC
PRIORITY:5
DTSTAMP:20260424T202800Z
CREATED:20260424T202800Z
DTSTART:20260506T110000Z
DTEND:20260506T120000Z
SUMMARY:Cérémonie de Paul LAVAU
LOCATION:41230, Soings-en-Sologne, France
BEGIN:VALARM
TRIGGER:-PT30M
ACTION:DISPLAY
DESCRIPTION:Reminder
END:VALARM
END:VEVENT
END:VCALENDAR
