BEGIN:VCALENDAR
VERSION:2.0
METHOD:PUBLISH
CALSCALE:GREGORIAN
BEGIN:VEVENT
UID:77d2011e-7b7b-4ded-94d2-4490f2c6593d
SEQUENCE:0
CLASS:PUBLIC
PRIORITY:5
DTSTAMP:20260424T202743Z
CREATED:20260424T202743Z
DTSTART:20260423T150000Z
DTEND:20260423T150000Z
SUMMARY:Cérémonie de BERNARD ARTIGAUD
LOCATION:85 Rue de la Picardiere, 41000, Blois, France
BEGIN:VALARM
TRIGGER:-PT30M
ACTION:DISPLAY
DESCRIPTION:Reminder
END:VALARM
END:VEVENT
END:VCALENDAR
