BEGIN:VCALENDAR
VERSION:2.0
METHOD:PUBLISH
CALSCALE:GREGORIAN
BEGIN:VEVENT
UID:d7363dd5-6454-4a16-b085-4418941b9a42
SEQUENCE:0
CLASS:PUBLIC
PRIORITY:5
DTSTAMP:20260424T202759Z
CREATED:20260424T202759Z
DTSTART:20260428T103000Z
DTEND:20260428T103000Z
SUMMARY:Cérémonie de Jean-Louis PÉCHEUX
LOCATION:Chemin de la Guesnardiere, 53200, Château-Gontier-sur-Mayenne, France
BEGIN:VALARM
TRIGGER:-PT30M
ACTION:DISPLAY
DESCRIPTION:Reminder
END:VALARM
END:VEVENT
END:VCALENDAR
