BEGIN:VCALENDAR
VERSION:2.0
METHOD:PUBLISH
CALSCALE:GREGORIAN
BEGIN:VEVENT
UID:e8fd60ee-b7d3-40c3-9680-80c22f75f085
SEQUENCE:0
CLASS:PUBLIC
PRIORITY:5
DTSTAMP:20260424T204905Z
CREATED:20260424T204905Z
DTSTART:20260429T143000Z
DTEND:20260429T143000Z
SUMMARY:Cérémonie de Janine BAPTISTE
LOCATION:72650, La Milesse, France
BEGIN:VALARM
TRIGGER:-PT30M
ACTION:DISPLAY
DESCRIPTION:Reminder
END:VALARM
END:VEVENT
END:VCALENDAR
