BEGIN:VCALENDAR
VERSION:2.0
METHOD:PUBLISH
CALSCALE:GREGORIAN
BEGIN:VEVENT
UID:3070d515-815f-462a-b590-0c8d2e713aef
SEQUENCE:0
CLASS:PUBLIC
PRIORITY:5
DTSTAMP:20260424T202739Z
CREATED:20260424T202739Z
DTSTART:20260430T100000Z
DTEND:20260430T110000Z
SUMMARY:Cérémonie de Judith HYRON
LOCATION:Rue Pasteur, 72430 Noyen-sur-Sarthe, 72430, Noyen-sur-Sarthe, France
BEGIN:VALARM
TRIGGER:-PT30M
ACTION:DISPLAY
DESCRIPTION:Reminder
END:VALARM
END:VEVENT
END:VCALENDAR
