BEGIN:VCALENDAR
VERSION:2.0
METHOD:PUBLISH
CALSCALE:GREGORIAN
BEGIN:VEVENT
UID:91652f67-3c21-4a56-bae5-4d6f36d16ec1
SEQUENCE:0
CLASS:PUBLIC
PRIORITY:5
DTSTAMP:20260425T124122Z
CREATED:20260425T124122Z
DTSTART:20260428T100000Z
DTEND:20260428T100000Z
SUMMARY:Cérémonie de Marie-Thérèse BENOIT
LOCATION:86130, Jaunay-Marigny, France
BEGIN:VALARM
TRIGGER:-PT30M
ACTION:DISPLAY
DESCRIPTION:Reminder
END:VALARM
END:VEVENT
END:VCALENDAR
