BEGIN:VCALENDAR
VERSION:2.0
METHOD:PUBLISH
CALSCALE:GREGORIAN
BEGIN:VEVENT
UID:042a1954-a9da-4106-9272-e7fa97dd7c7d
SEQUENCE:0
CLASS:PUBLIC
PRIORITY:5
DTSTAMP:20260425T152750Z
CREATED:20260425T152750Z
DTSTART:20260429T143000Z
DTEND:20260429T153000Z
SUMMARY:Cérémonie de Jacqueline COLEAUX
LOCATION:14420, Potigny, France
BEGIN:VALARM
TRIGGER:-PT30M
ACTION:DISPLAY
DESCRIPTION:Reminder
END:VALARM
END:VEVENT
END:VCALENDAR
