BEGIN:VCALENDAR
VERSION:2.0
METHOD:PUBLISH
CALSCALE:GREGORIAN
BEGIN:VEVENT
UID:1c285275-6f13-4db8-9dbe-fab60fea7c28
SEQUENCE:0
CLASS:PUBLIC
PRIORITY:5
DTSTAMP:20260425T185413Z
CREATED:20260425T185413Z
DTSTART:20260430T093000Z
DTEND:20260430T100000Z
SUMMARY:Cérémonie de GILBERT BILLET
LOCATION:15 Chemin de l'Abbaye d'Ardennes, 02 31 73 34 34  caen@crematoriums.fr, 14000, Caen, France
BEGIN:VALARM
TRIGGER:-PT30M
ACTION:DISPLAY
DESCRIPTION:Reminder
END:VALARM
END:VEVENT
END:VCALENDAR
